Workbook

Sheet 收入支出决算总表
A1: 收入支出决算总表 | C1: 收入支出决算总表
F2: 公开01表
A3: 部门：岳阳县自然资源局 | F3: 金额单位：万元
A4: 收入 | D4: 支出
A5: 项目 | B5: 行次 | C5: 金额 | D5: 项目 | E5: 行次 | F5: 金额
A6: 栏次 | C6: 1 | D6: 栏次 | F6: 2
A7: 一、一般公共预算财政拨款收入 | B7: 1 | C7: =一般公共预算财政拨款支出决算表!E9 -> 8251.8451 | D7: 一、一般公共服务支出 | E7: 32 | F7: 0
A8: 二、政府性基金预算财政拨款收入 | B8: 2 | C8: =政府性基金预算财政拨款收入支出决算表!F7 -> 422.99142 | D8: 二、外交支出 | E8: 33
A9: 三、国有资本经营预算财政拨款收入 | B9: 3 | C9: =国有资本经营预算财政拨款支出决算表!E9 -> 0 | D9: 三、国防支出 | E9: 34
A10: 四、上级补助收入 | B10: 4 | D10: 四、公共安全支出 | E10: 35
A11: 五、事业收入 | B11: 5 | D11: 五、教育支出 | E11: 36
A12: 六、经营收入 | B12: 6 | D12: 六、科学技术支出 | E12: 37 | F12: =收入决算表!E10 -> 94
A13: 七、附属单位上缴收入 | B13: 7 | D13: 七、文化旅游体育与传媒支出 | E13: 38
A14: 八、其他收入 | B14: 8 | C14: =收入决算表!K9 -> 2409.7438 | D14: 八、社会保障和就业支出 | E14: 39 | F14: =支出决算表!E13 -> 370.19449
B15: 9 | D15: 九、卫生健康支出 | E15: 40 | F15: =支出决算表!E22 -> 200.34337
B16: 10 | D16: 十、节能环保支出 | E16: 41 | F16: =支出决算表!E26 -> 90
B17: 11 | D17: 十一、城乡社区支出 | E17: 42 | F17: =支出决算表!E29 -> 252.70816
B18: 12 | D18: 十二、农林水支出 | E18: 43 | F18: =支出决算表!E35 -> 116.961
B19: 13 | D19: 十三、交通运输支出 | E19: 44
B20: 14 | D20: 十四、资源勘探工业信息等支出 | E20: 45
B21: 15 | D21: 十五、商业服务业等支出 | E21: 46
B22: 16 | D22: 十六、金融支出 | E22: 47
B23: 17 | D23: 十七、援助其他地区支出 | E23: 48
B24: 18 | D24: 十八、自然资源海洋气象等支出 | E24: 49 | F24: =支出决算表!E38 -> 7037.2809
B25: 19 | D25: 十九、住房保障支出 | E25: 50 | F25: =支出决算表!E47 -> 253.06531
B26: 20 | D26: 二十、粮油物资储备支出 | E26: 51
B27: 21 | D27: 二十一、国有资本经营预算支出 | E27: 52
B28: 22 | D28: 二十二、灾害防治及应急管理支出 | E28: 53 | F28: =支出决算表!E50 -> 60
B29: 23 | D29: 二十三、其他支出 | E29: 54 | F29: =支出决算表!E53 -> 1437.6713
B30: 24 | D30: 二十四、债务还本支出 | E30: 55
B31: 25 | D31: 二十五、债务付息支出 | E31: 56
B32: 26 | D32: 二十六、抗疫特别国债安排的支出 | E32: 57
A33: 本年收入合计 | B33: 27 | C33: =SUM(C7:C32) -> 11084.58 | D33: 本年支出合计 | E33: 58 | F33: =SUM(F7:F32) -> 9912.2245
A34: 使用非财政拨款结余 | B34: 28 | D34: 结余分配 | E34: 59
A35: 年初结转和结余 | B35: 29 | C35: =17841977.34/10000 -> 1784.1977 | D35: 年末结转和结余 | E35: 60 | F35: =29565535.01/10000 -> 2956.5535
B36: 30 | E36: 61
A37: 总计 | B37: 31 | C37: =SUM(C33:C36) -> 12868.778 | D37: 总计 | E37: 62 | F37: =SUM(F33:F36) -> 12868.778
A38: 注：1.本表反映部门本年度的总收支和年末结转结余情况。
A39: 2.本套报表金额单位转换时可能存在尾数误差。
C41: — 1 —

Sheet 收入决算表
A1: 收入决算表 | F1: 收入决算表
K2: 公开02表
A3: =收入支出决算总表!A3 -> 部门：岳阳县自然资源局 | K3: 金额单位：万元
A4: 项目 | D4: 科目名称 | E4: 本年收入合计 | F4: 财政拨款收入 | G4: 上级补助收入 | H4: 事业收入 | I4: 经营收入 | J4: 附属单位上缴收入 | K4: 其他收入
A5: 功能分类科目编码 | D5: 科目名称 | K5: 小计
A8: 栏次 | B8: 款 | C8: 项 | D8: 栏次 | E8: 1 | F8: 2 | G8: 3 | H8: 4 | I8: 5 | J8: 6 | K8: 7
A9: 合计 | D9: 合计 | E9: =SUM(F9:K9) -> 11084.58 | F9: =F10+F13+F22+F29+F35+F38+F47+F50+F53+F26 -> 8674.8365 | G9: =G10+G13+G22+G29+G35+G38+G47+G50+G53+G26 -> 0 | H9: =H10+H13+H22+H29+H35+H38+H47+H50+H53+H26 -> 0 | I9: =I10+I13+I22+I29+I35+I38+I47+I50+I53+I26 -> 0 | J9: =J10+J13+J22+J29+J35+J38+J47+J50+J53+J26 -> 0 | K9: =K10+K13+K22+K29+K35+K38+K47+K50+K53+K26 -> 2409.7438
A10: 206 | D10: 科学技术支出 | E10: =SUM(F10:K10) -> 94 | F10: =F11 -> 94 | G10: =G11 -> 0 | H10: =H11 -> 0 | I10: =I11 -> 0 | J10: =J11 -> 0 | K10: =K11 -> 0
A11: 20604 | D11: 技术研究与开发 | E11: =SUM(F11:K11) -> 94 | F11: =F12 -> 94 | G11: =G12 -> 0 | H11: =H12 -> 0 | I11: =I12 -> 0 | J11: =J12 -> 0 | K11: =K12 -> 0
A12: 2060404 | D12: 科技成果转化与扩散 | E12: =SUM(F12:K12) -> 94 | F12: =940000/10000 -> 94 | G12: 0 | H12: 0 | I12: 0 | J12: 0 | K12: 0
A13: 208 | D13: 社会保障和就业支出 | E13: =SUM(F13:K13) -> 370.19449 | F13: =F14+F16+F18+F20 -> 370.19449 | G13: =G14+G16+G18+G20 -> 0 | H13: =H14+H16+H18+H20 -> 0 | I13: =I14+I16+I18+I20 -> 0 | J13: =J14+J16+J18+J20 -> 0 | K13: =K14+K16+K18+K20 -> 0
A14: 20805 | D14: 行政事业单位养老支出 | E14: =SUM(F14:K14) -> 337.42042 | F14: =F15 -> 337.42042 | G14: =G15 -> 0 | H14: =H15 -> 0 | I14: =I15 -> 0 | J14: =J15 -> 0 | K14: =K15 -> 0
A15: 2080505 | D15: 机关事业单位基本养老保险缴费支出 | E15: =SUM(F15:K15) -> 337.42042 | F15: =3374204.16/10000 -> 337.42042 | G15: 0 | H15: 0 | I15: 0 | J15: 0 | K15: 0
A16: 20808 | D16: 抚恤 | E16: =SUM(F16:K16) -> 3.39 | F16: =F17 -> 3.39 | G16: =G17 -> 0 | H16: =H17 -> 0 | I16: =I17 -> 0 | J16: =J17 -> 0 | K16: =K17 -> 0
A17: 2080801 | D17: 死亡抚恤 | E17: =SUM(F17:K17) -> 3.39 | F17: =33900/10000 -> 3.39 | G17: 0 | H17: 0 | I17: 0 | J17: 0 | K17: 0
A18: 20811 | D18: 残疾人事业 | E18: =SUM(F18:K18) -> 8.2953 | F18: =F19 -> 8.2953 | G18: =G19 -> 0 | H18: =H19 -> 0 | I18: =I19 -> 0 | J18: =J19 -> 0 | K18: =K19 -> 0
A19: 2081199 | D19: 其他残疾人事业支出 | E19: =SUM(F19:K19) -> 8.2953 | F19: =82953/10000 -> 8.2953 | G19: 0 | H19: 0 | I19: 0 | J19: 0 | K19: 0
A20: 20899 | D20: 其他社会保障和就业支出 | E20: =SUM(F20:K20) -> 21.088776 | F20: =F21 -> 21.088776 | G20: =G21 -> 0 | H20: =H21 -> 0 | I20: =I21 -> 0 | J20: =J21 -> 0 | K20: =K21 -> 0
A21: 2089999 | D21: 其他社会保障和就业支出 | E21: =SUM(F21:K21) -> 21.088776 | F21: =210887.76/10000 -> 21.088776 | G21: 0 | H21: 0 | I21: 0 | J21: 0 | K21: 0
A22: 210 | D22: 卫生健康支出 | E22: =SUM(F22:K22) -> 200.34337 | F22: =F23 -> 200.34337 | G22: =G23 -> 0 | H22: =H23 -> 0 | I22: =I23 -> 0 | J22: =J23 -> 0 | K22: =K23 -> 0
A23: 21011 | D23: 行政事业单位医疗 | E23: =SUM(F23:K23) -> 200.34337 | F23: =F24+F25 -> 200.34337 | G23: =G24 -> 0 | H23: =H24 -> 0 | I23: =I24 -> 0 | J23: =J24 -> 0 | K23: =K24 -> 0
A24: 2101101 | D24: 行政单位医疗 | E24: =SUM(F24:K24) -> 179.2546 | F24: =1792545.96/10000 -> 179.2546 | G24: 0 | H24: 0 | I24: 0 | J24: 0 | K24: 0
A25: 2101103 | D25: 公务员医疗补助 | E25: =SUM(F25:K25) -> 21.088776 | F25: =210887.76/10000 -> 21.088776 | G25: 0 | H25: 0 | I25: 0 | J25: 0 | K25: 0
A26: 211 | D26: 节能环保支出 | E26: =SUM(F26:K26) -> 90 | F26: =F27 -> 90 | G26: =G27 -> 0 | H26: =H27 -> 0 | I26: =I27 -> 0 | J26: =J27 -> 0 | K26: =K27 -> 0
A27: 21104 | D27: 自然生态保护 | E27: =SUM(F27:K27) -> 90 | F27: =F28 -> 90 | G27: =G28 -> 0 | H27: =H28 -> 0 | I27: =I28 -> 0 | J27: =J28 -> 0 | K27: =K28 -> 0
A28: 2110401 | D28: 生态保护 | E28: =SUM(F28:K28) -> 90 | F28: =900000/10000 -> 90 | G28: 0 | H28: 0 | I28: 0 | J28: 0 | K28: 0
A29: 212 | D29: 城乡社区支出 | E29: =SUM(F29:K29) -> 252.70816 | F29: =F30+F32 -> 252.70816 | G29: =G32 -> 0 | H29: =H32 -> 0 | I29: =I32 -> 0 | J29: =J32 -> 0 | K29: =K32 -> 0
A30: 21201 | D30: 城乡社区管理事务 | E30: =SUM(F30:K30) -> 30 | F30: =F31 -> 30 | G30: 0 | H30: 0 | I30: 0 | J30: 0 | K30: 0
A31: 2120199 | D31: 其他城乡社区管理事务支出 | E31: =SUM(F31:K31) -> 30 | F31: =300000/10000 -> 30 | G31: 0 | H31: 0 | I31: 0 | J31: 0 | K31: 0
A32: 21208 | D32: 国有土地使用权出让收入安排的支出 | E32: =SUM(F32:K32) -> 222.70816 | F32: =SUM(F33:F34) -> 222.70816 | G32: =SUM(G33:G34) -> 0 | H32: =SUM(H33:H34) -> 0 | I32: =SUM(I33:I34) -> 0 | J32: =SUM(J33:J34) -> 0 | K32: =SUM(K33:K34) -> 0
A33: 2120801 | D33: 征地和拆迁补偿支出 | E33: =SUM(F33:K33) -> 2.5109 | F33: =25109/10000 -> 2.5109 | G33: 0 | H33: 0 | I33: 0 | J33: 0 | K33: 0
A34: 2120899 | D34: 其他国有土地使用权出让收入安排的支出 | E34: =SUM(F34:K34) -> 220.19726 | F34: =2201972.6/10000 -> 220.19726 | G34: 0 | H34: 0 | I34: 0 | J34: 0 | K34: 0
A35: 213 | D35: 农林水支出 | E35: =SUM(F35:K35) -> 116.961 | F35: =F36 -> 116.961 | G35: =G36 -> 0 | H35: =H36 -> 0 | I35: =I36 -> 0 | J35: =J36 -> 0 | K35: =K36 -> 0
A36: 21301 | D36: 农业农村 | E36: =SUM(F36:K36) -> 116.961 | F36: =F37 -> 116.961 | G36: =G37 -> 0 | H36: =H37 -> 0 | I36: =I37 -> 0 | J36: =J37 -> 0 | K36: =K37 -> 0
A37: 2130199 | D37: 其他农业农村支出 | E37: =SUM(F37:K37) -> 116.961 | F37: =1169610/10000 -> 116.961 | G37: 0 | H37: 0 | I37: 0 | J37: 0 | K37: 0
A38: 220 | D38: 自然资源海洋气象等支出 | E38: =SUM(F38:K38) -> 7037.2809 | F38: =F39 -> 7037.2809 | G38: =G39 -> 0 | H38: =H39 -> 0 | I38: =I39 -> 0 | J38: =J39 -> 0 | K38: =K39 -> 0
A39: 22001 | D39: 自然资源事务 | E39: =SUM(F39:K39) -> 7037.2809 | F39: =SUM(F40:F46) -> 7037.2809 | G39: =SUM(G40:G46) -> 0 | H39: =SUM(H40:H46) -> 0 | I39: =SUM(I40:I46) -> 0 | J39: =SUM(J40:J46) -> 0 | K39: =SUM(K40:K46) -> 0
A40: 2200101 | D40: 行政运行 | E40: =SUM(F40:K40) -> 4018.2841 | F40: =40182841.34/10000 -> 4018.2841 | G40: 0 | H40: 0 | I40: 0 | J40: 0 | K40: 0
A41: 2200104 | D41: 自然资源规划及管理 | E41: =SUM(F41:K41) -> 129 | F41: =1290000/10000 -> 129 | G41: 0 | H41: 0 | I41: 0 | J41: 0 | K41: 0
A42: 2200106 | D42: 自然资源利用与保护 | E42: =SUM(F42:K42) -> 30.1805 | F42: =301805/10000 -> 30.1805 | G42: 0 | H42: 0 | I42: 0 | J42: 0 | K42: 0
...

Sheet 支出决算表
A1: 支出决算表 | F1: 支出决算表
J2: 公开03表
A3: =收入决算表!A3 -> 部门：岳阳县自然资源局 | J3: 金额单位：万元
A4: 项目 | D4: 科目名称 | E4: 本年支出合计 | F4: 基本支出 | G4: 项目支出 | H4: 上缴上级支出 | I4: 经营支出 | J4: 对附属单位补助支出
A5: 功能分类科目编码 | D5: 科目名称
A8: 栏次 | B8: 款 | C8: 项 | D8: 栏次 | E8: 1 | F8: 2 | G8: 3 | H8: 4 | I8: 5 | J8: 6
A9: 合计 | D9: 合计 | E9: =SUM(F9:J9) -> 9912.2245 | F9: =F10+F13+F22+F29+F38+F47+F50+F53+F26+F35 -> 6727.1389 | G9: =G10+G13+G22+G29+G38+G47+G50+G53+G26+G35 -> 3185.0856 | H9: =H10+H13+H22+H29+H38+H47+H50+H53+H26+H35 -> 0 | I9: =I10+I13+I22+I29+I38+I47+I50+I53+I26+I35 -> 0 | J9: =J10+J13+J22+J29+J38+J47+J50+J53+J26+J35 -> 0
A10: 206 | D10: 科学技术支出 | E10: =SUM(F10:J10) -> 94 | F10: =F11 -> 94 | G10: =G11 -> 0 | H10: =H11 -> 0 | I10: =I11 -> 0 | J10: =J11 -> 0
A11: 20604 | D11: 技术研究与开发 | E11: =SUM(F11:J11) -> 94 | F11: =F12 -> 94 | G11: =G12 -> 0 | H11: =H12 -> 0 | I11: =I12 -> 0 | J11: =J12 -> 0
A12: 2060404 | D12: 科技成果转化与扩散 | E12: =SUM(F12:J12) -> 94 | F12: =940000/10000 -> 94 | G12: 0 | H12: 0 | I12: 0 | J12: 0
A13: 208 | D13: 社会保障和就业支出 | E13: =SUM(F13:J13) -> 370.19449 | F13: =F14+F16+F18+F20 -> 361.89919 | G13: =G14+G16+G18+G20 -> 8.2953 | H13: =H14+H16+H18+H20 -> 0 | I13: =I14+I16+I18+I20 -> 0 | J13: =J14+J16+J18+J20 -> 0
A14: 20805 | D14: 行政事业单位养老支出 | E14: =SUM(F14:J14) -> 337.42042 | F14: =F15 -> 337.42042 | G14: =G15 -> 0 | H14: =H15 -> 0 | I14: =I15 -> 0 | J14: =J15 -> 0
A15: 2080505 | D15: 机关事业单位基本养老保险缴费支出 | E15: =SUM(F15:J15) -> 337.42042 | F15: =3374204.16/10000 -> 337.42042 | G15: 0 | H15: 0 | I15: 0 | J15: 0
A16: 20808 | D16: 抚恤 | E16: =SUM(F16:J16) -> 3.39 | F16: =F17 -> 3.39 | G16: =G17 -> 0 | H16: =H17 -> 0 | I16: =I17 -> 0 | J16: =J17 -> 0
A17: 2080801 | D17: 死亡抚恤 | E17: =SUM(F17:J17) -> 3.39 | F17: =33900/10000 -> 3.39 | G17: 0 | H17: 0 | I17: 0 | J17: 0
A18: 20811 | D18: 残疾人事业 | E18: =SUM(F18:J18) -> 8.2953 | F18: =F19 -> 0 | G18: =G19 -> 8.2953 | H18: =H19 -> 0 | I18: =I19 -> 0 | J18: =J19 -> 0
A19: 2081199 | D19: 其他残疾人事业支出 | E19: =SUM(F19:J19) -> 8.2953 | F19: 0 | G19: =82953/10000 -> 8.2953 | H19: 0 | I19: 0 | J19: 0
A20: 20899 | D20: 其他社会保障和就业支出 | E20: =SUM(F20:J20) -> 21.088776 | F20: =F21 -> 21.088776 | G20: =G21 -> 0 | H20: =H21 -> 0 | I20: =I21 -> 0 | J20: =J21 -> 0
A21: 2089999 | D21: 其他社会保障和就业支出 | E21: =SUM(F21:J21) -> 21.088776 | F21: =210887.76/10000 -> 21.088776 | G21: 0 | H21: 0 | I21: 0 | J21: 0
A22: 210 | D22: 卫生健康支出 | E22: =SUM(F22:J22) -> 200.34337 | F22: =F23 -> 200.34337 | G22: =G23 -> 0 | H22: =H23 -> 0 | I22: =I23 -> 0 | J22: =J23 -> 0
A23: 21011 | D23: 行政事业单位医疗 | E23: =SUM(F23:J23) -> 200.34337 | F23: =F24+F25 -> 200.34337 | G23: =G24 -> 0 | H23: =H24 -> 0 | I23: =I24 -> 0 | J23: =J24 -> 0
A24: 2101101 | D24: 行政单位医疗 | E24: =SUM(F24:J24) -> 179.2546 | F24: =1792545.96/10000 -> 179.2546 | G24: 0 | H24: 0 | I24: 0 | J24: 0
A25: 2101103 | D25: 公务员医疗补助 | E25: =SUM(F25:J25) -> 21.088776 | F25: =210887.76/10000 -> 21.088776 | G25: 0 | H25: 0 | I25: 0 | J25: 0
A26: 211 | D26: 节能环保支出 | E26: =SUM(F26:J26) -> 90 | F26: =F27 -> 0 | G26: =G27 -> 90 | H26: =H27 -> 0 | I26: =I27 -> 0 | J26: =J27 -> 0
A27: 21104 | D27: 自然生态保护 | E27: =SUM(F27:J27) -> 90 | F27: =F28 -> 0 | G27: =G28 -> 90 | H27: =H28 -> 0 | I27: =I28 -> 0 | J27: =J28 -> 0
A28: 2110401 | D28: 生态保护 | E28: =SUM(F28:J28) -> 90 | F28: 0 | G28: =900000/10000 -> 90 | H28: 0 | I28: 0 | J28: 0
A29: 212 | D29: 城乡社区支出 | E29: =SUM(F29:J29) -> 252.70816 | F29: =F32+F30 -> 244.6609 | G29: =G32+G30 -> 8.04726 | H29: =H32+H30 -> 0 | I29: =I32 -> 0 | J29: =J32 -> 0
A30: 21201 | D30: 城乡社区管理事务 | E30: =SUM(F30:J30) -> 30 | F30: =F31 -> 30 | G30: 0 | H30: 0 | I30: 0 | J30: 0
A31: 2120199 | D31: 其他城乡社区管理事务支出 | E31: =SUM(F31:J31) -> 30 | F31: =300000/10000 -> 30 | G31: 0 | H31: 0 | I31: 0 | J31: 0
A32: 21208 | D32: 国有土地使用权出让收入安排的支出 | E32: =SUM(F32:J32) -> 222.70816 | F32: =SUM(F33:F34) -> 214.6609 | G32: =SUM(G34:G34) -> 8.04726 | H32: =SUM(H34:H34) -> 0 | I32: =SUM(I34:I34) -> 0 | J32: =SUM(J34:J34) -> 0
A33: 2120801 | D33: 征地和拆迁补偿支出 | E33: =SUM(F33:J33) -> 2.5109 | F33: =25109/10000 -> 2.5109 | G33: 0 | H33: 0 | I33: 0 | J33: 0
A34: 2120899 | D34: 其他国有土地使用权出让收入安排的支出 | E34: =SUM(F34:J34) -> 220.19726 | F34: =2121500/10000 -> 212.15 | G34: =80472.6/10000 -> 8.04726 | H34: 0 | I34: 0 | J34: 0
A35: 213 | D35: 农林水支出 | E35: =SUM(F35:J35) -> 116.961 | F35: =F36 -> 0 | G35: =G36 -> 116.961 | H35: =H36 -> 0 | I35: =I36 -> 0 | J35: =J36 -> 0
A36: 21301 | D36: 农业农村 | E36: =SUM(F36:J36) -> 116.961 | F36: =F37 -> 0 | G36: =G37 -> 116.961 | H36: =H37 -> 0 | I36: =I37 -> 0 | J36: =J37 -> 0
A37: 2130199 | D37: 其他农业农村支出 | E37: =SUM(F37:J37) -> 116.961 | F37: 0 | G37: =1169610/10000 -> 116.961 | H37: 0 | I37: 0 | J37: 0
A38: 220 | D38: 自然资源海洋气象等支出 | E38: =SUM(F38:J38) -> 7037.2809 | F38: =F39 -> 4552.5713 | G38: =G39 -> 2484.7096 | H38: =H39 -> 0 | I38: =I39 -> 0 | J38: =J39 -> 0
A39: 22001 | D39: 自然资源事务 | E39: =SUM(F39:J39) -> 7037.2809 | F39: =SUM(F40:F46) -> 4552.5713 | G39: =SUM(G40:G46) -> 2484.7096 | H39: =SUM(H40:H46) -> 0 | I39: =SUM(I40:I46) -> 0 | J39: =SUM(J40:J46) -> 0
A40: 2200101 | D40: 行政运行 | E40: =SUM(F40:J40) -> 4018.2841 | F40: =40182841.34/10000 -> 4018.2841 | G40: 0 | H40: 0 | I40: 0 | J40: 0
A41: 2200104 | D41: 自然资源规划及管理 | E41: =SUM(F41:J41) -> 129 | F41: =0/10000 -> 0 | G41: =1290000/10000 -> 129 | H41: 0 | I41: 0 | J41: 0
A42: 2200106 | D42: 自然资源利用与保护 | E42: =SUM(F42:J42) -> 30.1805 | F42: 0 | G42: =301805/10000 -> 30.1805 | H42: 0 | I42: 0 | J42: 0
...

Sheet 财政拨款收入支出决算总表
A1: 财政拨款收入支出决算总表 | D1: 财政拨款收入支出决算总表
I2: 公开04表
A3: =支出决算表!A3 -> 部门：岳阳县自然资源局 | I3: 金额单位：万元
A4: 收 入 | D4: 支 出
A5: 项目 | B5: 行次 | C5: 金额 | D5: 项目 | E5: 行次 | F5: 合计 | G5: 一般公共预算财政拨款 | H5: 政府性基金预算财政拨款 | I5: 国有资本经营预算财政拨款
F6: 小计 | G6: 一般公共预算财政拨款 | H6: 政府性基金预算财政拨款
A7: 栏次 | C7: 1 | D7: 栏次 | F7: 2 | G7: 3 | H7: 4 | I7: 5
A8: 一、一般公共预算财政拨款 | B8: 1 | C8: =一般公共预算财政拨款支出决算表!E9 -> 8251.8451 | D8: 一、一般公共服务支出 | E8: 33 | F8: =SUM(G8:I8) -> 0 | G8: 0 | H8: 0 | I8: 0
A9: 二、政府性基金预算财政拨款 | B9: 2 | C9: =政府性基金预算财政拨款收入支出决算表!F7 -> 422.99142 | D9: 二、外交支出 | E9: 34 | F9: =SUM(G9:I9) -> 0 | G9: 0 | H9: 0 | I9: 0
A10: 三、国有资本经营财政拨款 | B10: 3 | C10: =国有资本经营预算财政拨款支出决算表!E9 -> 0 | D10: 三、国防支出 | E10: 35 | F10: =SUM(G10:I10) -> 0 | G10: 0 | H10: 0 | I10: 0
B11: 4 | D11: 四、公共安全支出 | E11: 36 | F11: =SUM(G11:I11) -> 0 | G11: 0 | H11: 0 | I11: 0
B12: 5 | D12: 五、教育支出 | E12: 37 | F12: =SUM(G12:I12) -> 0 | G12: 0 | H12: 0 | I12: 0
B13: 6 | D13: 六、科学技术支出 | E13: 38 | F13: =SUM(G13:I13) -> 94 | G13: =一般公共预算财政拨款支出决算表!E10 -> 94 | H13: 0 | I13: 0
B14: 7 | D14: 七、文化旅游体育与传媒支出 | E14: 39 | F14: =SUM(G14:I14) -> 0 | G14: 0 | H14: 0 | I14: 0
B15: 8 | D15: 八、社会保障和就业支出 | E15: 40 | F15: =SUM(G15:I15) -> 370.19449 | G15: =一般公共预算财政拨款支出决算表!E13 -> 370.19449 | H15: 0 | I15: 0
B16: 9 | D16: 九、卫生健康支出 | E16: 41 | F16: =SUM(G16:I16) -> 200.34337 | G16: =一般公共预算财政拨款支出决算表!E22 -> 200.34337 | H16: 0 | I16: 0
B17: 10 | D17: 十、节能环保支出 | E17: 42 | F17: =SUM(G17:I17) -> 90 | G17: =一般公共预算财政拨款支出决算表!E26 -> 90 | H17: 0 | I17: 0
B18: 11 | D18: 十一、城乡社区支出 | E18: 43 | F18: =SUM(G18:I18) -> 252.70816 | G18: =一般公共预算财政拨款支出决算表!E29 -> 30 | H18: =政府性基金预算财政拨款收入支出决算表!G8 -> 222.70816 | I18: 0
B19: 12 | D19: 十二、农林水支出 | E19: 44 | F19: =SUM(G19:I19) -> 116.961 | G19: =一般公共预算财政拨款支出决算表!E32 -> 116.961 | H19: 0 | I19: 0
B20: 13 | D20: 十三、交通运输支出 | E20: 45 | F20: =SUM(G20:I20) -> 0 | G20: 0 | H20: 0 | I20: 0
B21: 14 | D21: 十四、资源勘探工业信息等支出 | E21: 46 | F21: =SUM(G21:I21) -> 0 | G21: 0 | H21: 0 | I21: 0
B22: 15 | D22: 十五、商业服务业等支出 | E22: 47 | F22: =SUM(G22:I22) -> 0 | G22: 0 | H22: 0 | I22: 0
B23: 16 | D23: 十六、金融支出 | E23: 48 | F23: =SUM(G23:I23) -> 0 | G23: 0 | H23: 0 | I23: 0
B24: 17 | D24: 十七、援助其他地区支出 | E24: 49 | F24: =SUM(G24:I24) -> 0 | G24: 0 | H24: 0 | I24: 0
B25: 18 | D25: 十八、自然资源海洋气象等支出 | E25: 50 | F25: =SUM(G25:I25) -> 7037.2809 | G25: =一般公共预算财政拨款支出决算表!E35 -> 7037.2809 | H25: 0 | I25: 0
B26: 19 | D26: 十九、住房保障支出 | E26: 51 | F26: =SUM(G26:I26) -> 253.06531 | G26: =一般公共预算财政拨款支出决算表!E44 -> 253.06531 | H26: 0 | I26: 0
B27: 20 | D27: 二十、粮油物资储备支出 | E27: 52 | F27: =SUM(G27:I27) -> 0 | G27: 0 | H27: 0 | I27: 0
B28: 21 | D28: 二十一、国有资本经营预算支出 | E28: 53 | F28: =SUM(G28:I28) -> 0 | G28: 0 | H28: 0 | I28: =国有资本经营预算财政拨款支出决算表!E10 -> 0
B29: 22 | D29: 二十二、灾害防治及应急管理支出 | E29: 54 | F29: =SUM(G29:I29) -> 60 | G29: =一般公共预算财政拨款支出决算表!E47 -> 60 | H29: 0 | I29: 0
B30: 23 | D30: 二十三、其他支出 | E30: 55 | F30: =SUM(G30:I30) -> 200.28326 | G30: =政府性基金预算财政拨款收入支出决算表!G12 -> 200.28326 | H30: 0 | I30: 0
B31: 24 | D31: 二十四、债务还本支出 | E31: 56 | F31: =SUM(G31:I31) -> 0 | G31: 0 | H31: 0 | I31: 0
B32: 25 | D32: 二十五、债务付息支出 | E32: 57 | F32: =SUM(G32:I32) -> 0 | G32: 0 | H32: 0 | I32: 0
B33: 26 | D33: 二十六、抗疫特别国债安排的支出 | E33: 58 | F33: =SUM(G33:I33) -> 0 | G33: 0 | H33: 0 | I33: 0
A34: 本年收入合计 | B34: 27 | C34: =SUM(C8:C33) -> 8674.8365 | D34: 本年支出合计 | E34: 59 | F34: =SUM(G34:I34) -> 8674.8365 | G34: =SUM(G8:G33) -> 8452.1283 | H34: =SUM(H8:H33) -> 222.70816 | I34: =SUM(I8:I33) -> 0
A35: 年初财政拨款结转和结余 | B35: 28 | D35: 年末财政拨款结转和结余 | E35: 60
A36: 一般公共预算财政拨款 | B36: 29 | E36: 61
A37: 政府性基金预算财政拨款 | B37: 30 | E37: 62
A38: 国有资本经营预算财政拨款 | B38: 31 | E38: 63
A39: 总计 | B39: 32 | D39: 总计 | E39: 64 | F39: =SUM(F34:F38) -> 8674.8365 | G39: =SUM(G34:G38) -> 8452.1283 | H39: =SUM(H34:H38) -> 222.70816 | I39: =SUM(I34:I38) -> 0
A40: 注：本表反映部门本年度一般公共预算财政拨款、政府性基金预算财政拨款和国有资本经营预算财政拨款的总收支和年末结转结余情况。
...

Sheet 一般公共预算财政拨款支出决算表
A1: 一般公共预算财政拨款支出决算表 | E1: 一般公共预算财政拨款支出决算表
G2: 公开05表
A3: =财政拨款收入支出决算总表!A3 -> 部门：岳阳县自然资源局 | G3: 金额单位：万元
A4: 项目 | D4: 科目名称 | E4: 本年支出
A5: 功能分类科目编码 | D5: 科目名称 | E5: 小计 | F5: 基本支出 | G5: 项目支出
F6: 小计 | G6: 小计
A8: 栏次 | B8: 款 | C8: 项 | D8: 栏次 | E8: 1 | F8: 2 | G8: 3
A9: 合计 | D9: 合计 | E9: =F9+G9 -> 8251.8451 | F9: =F10+F13+F22+F35+F44+F47+F26+F32+F29 -> 5491.8792 | G9: =G10+G13+G22+G35+G44+G47+G26+G32+G29 -> 2759.9659
A10: 206 | D10: 科学技术支出 | E10: =SUM(F10:G10) -> 94 | F10: =F11 -> 94 | G10: =G11 -> 0
A11: 20604 | D11: 技术研究与开发 | E11: =SUM(F11:G11) -> 94 | F11: =F12 -> 94 | G11: =G12 -> 0
A12: 2060404 | D12: 科技成果转化与扩散 | E12: =SUM(F12:G12) -> 94 | F12: =940000/10000 -> 94 | G12: 0
A13: 208 | D13: 社会保障和就业支出 | E13: =F13+G13 -> 370.19449 | F13: =F14+F16+F20+F18 -> 361.89919 | G13: =G14+G16+G20+G18 -> 8.2953
A14: 20805 | D14: 行政事业单位养老支出 | E14: =F14+G14 -> 337.42042 | F14: =F15 -> 337.42042 | G14: =G15 -> 0
A15: 2080505 | D15: 机关事业单位基本养老保险缴费支出 | E15: =F15+G15 -> 337.42042 | F15: =3374204.16/10000 -> 337.42042 | G15: 0
A16: 20808 | D16: 抚恤 | E16: =F16+G16 -> 3.39 | F16: =F17 -> 3.39 | G16: =G17 -> 0
A17: 2080801 | D17: 死亡抚恤 | E17: =F17+G17 -> 3.39 | F17: =33900/10000 -> 3.39 | G17: 0
A18: 20811 | D18: 残疾人事业 | E18: =SUM(F18:G18) -> 8.2953 | F18: =F19 -> 0 | G18: =G19 -> 8.2953
A19: 2081199 | D19: 其他残疾人事业支出 | E19: =SUM(F19:G19) -> 8.2953 | F19: 0 | G19: =82953/10000 -> 8.2953
A20: 20899 | D20: 其他社会保障和就业支出 | E20: =F20+G20 -> 21.088776 | F20: =F21 -> 21.088776 | G20: =G21 -> 0
A21: 2089999 | D21: 其他社会保障和就业支出 | E21: =F21+G21 -> 21.088776 | F21: =210887.76/10000 -> 21.088776 | G21: 0
A22: 210 | D22: 卫生健康支出 | E22: =F22+G22 -> 200.34337 | F22: =F23 -> 200.34337 | G22: =G23 -> 0
A23: 21011 | D23: 行政事业单位医疗 | E23: =F23+G23 -> 200.34337 | F23: =F24+F25 -> 200.34337 | G23: =G24 -> 0
A24: 2101101 | D24: 行政单位医疗 | E24: =F24+G24 -> 179.2546 | F24: =1792545.96/10000 -> 179.2546 | G24: 0
A25: 2101103 | D25: 公务员医疗补助 | E25: =F25+G25 -> 21.088776 | F25: =210887.76/10000 -> 21.088776 | G25: 0
A26: 211 | D26: 节能环保支出 | E26: =SUM(F26:G26) -> 90 | F26: =F27 -> 0 | G26: =G27 -> 90
A27: 21104 | D27: 自然生态保护 | E27: =SUM(F27:G27) -> 90 | F27: =F28 -> 0 | G27: =G28 -> 90
A28: 2110401 | D28: 生态保护 | E28: =SUM(F28:G28) -> 90 | F28: 0 | G28: =900000/10000 -> 90
A29: 212 | D29: 城乡社区支出 | E29: =SUM(F29:G29) -> 30 | F29: =F30 -> 30 | G29: =G30 -> 0
A30: 21201 | D30: 城乡社区管理事务 | E30: =SUM(F30:G30) -> 30 | F30: =F31 -> 30 | G30: 0
A31: 2120199 | D31: 其他城乡社区管理事务支出 | E31: =SUM(F31:G31) -> 30 | F31: =300000/10000 -> 30 | G31: 0
A32: 213 | D32: 农林水支出 | E32: =SUM(F32:G32) -> 116.961 | F32: =F33 -> 0 | G32: =G33 -> 116.961
A33: 21301 | D33: 农业农村 | E33: =SUM(F33:G33) -> 116.961 | F33: =F34 -> 0 | G33: =G34 -> 116.961
A34: 2130199 | D34: 其他农业农村支出 | E34: =SUM(F34:G34) -> 116.961 | F34: 0 | G34: =1169610/10000 -> 116.961
A35: 220 | D35: 自然资源海洋气象等支出 | E35: =F35+G35 -> 7037.2809 | F35: =F36 -> 4552.5713 | G35: =G36 -> 2484.7096
A36: 22001 | D36: 自然资源事务 | E36: =F36+G36 -> 7037.2809 | F36: =SUM(F37:F43) -> 4552.5713 | G36: =SUM(G37:G43) -> 2484.7096
A37: 2200101 | D37: 行政运行 | E37: =F37+G37 -> 4018.2841 | F37: =40182841.34/10000 -> 4018.2841 | G37: 0
A38: 2200104 | D38: 自然资源规划及管理 | E38: =SUM(F38:G38) -> 129 | F38: =0/10000 -> 0 | G38: =1290000/10000 -> 129
A39: 2200106 | D39: 自然资源利用与保护 | E39: =SUM(F39:G39) -> 30.1805 | F39: 0 | G39: =301805/10000 -> 30.1805
A40: 2200109 | D40: 自然资源调查与确权登记 | E40: =SUM(F40:G40) -> 50 | F40: 0 | G40: =500000/10000 -> 50
A41: 2200114 | D41: 地质勘查与矿产资源管理 | E41: =SUM(F41:G41) -> 48.98 | F41: 0 | G41: =489800/10000 -> 48.98
...

Sheet 一般公共预算财政拨款基本支出决算表
A1: 一般公共预算财政拨款基本支出决算表 | E1: 一般公共预算财政拨款基本支出决算表
I2: 公开06表
A3: =一般公共预算财政拨款支出决算表!A3 -> 部门：岳阳县自然资源局 | I3: 金额单位：万元
A4: 人员经费 | D4: 公用经费
A5: 经济分类科目编码 | B5: 科目名称 | C5: 决算数 | D5: 经济分类科目编码 | E5: 科目名称 | F5: 决算数 | G5: 经济分类科目编码 | H5: 科目名称 | I5: 决算数
A7: 301 | B7: 工资福利支出 | C7: =SUM(C8:C20) -> 4594.1383 | D7: 302 | E7: 商品和服务支出 | F7: =SUM(F8:F34) -> 807.07937 | G7: 307 | H7: 债务利息及费用支出
A8: 30101 | B8: 基本工资 | C8: =17887461.53/10000 -> 1788.7462 | D8: 30201 | E8: 办公费 | F8: =614984.43/10000 -> 61.498443 | G8: 30701 | H8: 国内债务付息
A9: 30102 | B9: 津贴补贴 | C9: =4583689/10000 -> 458.3689 | D9: 30202 | E9: 印刷费 | F9: =75173/10000 -> 7.5173 | G9: 30702 | H9: 国外债务付息
A10: 30103 | B10: 奖金 | C10: =7161201.38/10000 -> 716.12014 | D10: 30203 | E10: 咨询费 | F10: 0 | G10: 310 | H10: 资本性支出 | I10: =SUM(I11:I26) -> 1.8145
A11: 30106 | B11: 伙食补助费 | C11: 0 | D11: 30204 | E11: 手续费 | F11: 0 | G11: 31001 | H11: 房屋建筑物购建
A12: 30107 | B12: 绩效工资 | C12: =6169548/10000 -> 616.9548 | D12: 30205 | E12: 水费 | F12: =9153.7/10000 -> 0.91537 | G12: 31002 | H12: 办公设备购置 | I12: =18145/10000 -> 1.8145
A13: 30108 | B13: 机关事业单位基本养老保险缴费 | C13: =4187533.06/10000 -> 418.75331 | D13: 30206 | E13: 电费 | F13: =231821.12/10000 -> 23.182112 | G13: 31003 | H13: 专用设备购置 | I13: 0
A14: 30109 | B14: 职业年金缴费 | C14: =271087.76/10000 -> 27.108776 | D14: 30207 | E14: 邮电费 | F14: =30031/10000 -> 3.0031 | G14: 31005 | H14: 基础设施建设
A15: 30110 | B15: 职工基本医疗保险缴费 | C15: =2298047.64/10000 -> 229.80476 | D15: 30208 | E15: 取暖费 | F15: 0 | G15: 31006 | H15: 大型修缮
A16: 30111 | B16: 公务员医疗补助缴费 | C16: =305512.29/10000 -> 30.551229 | D16: 30209 | E16: 物业管理费 | F16: =198450/10000 -> 19.845 | G16: 31007 | H16: 信息网络及软件购置更新
A17: 30112 | B17: 其他社会保障缴费 | C17: =171614.42/10000 -> 17.161442 | D17: 30211 | E17: 差旅费 | F17: =161813/10000 -> 16.1813 | G17: 31008 | H17: 物资储备
A18: 30113 | B18: 住房公积金 | C18: =2905687.58/10000 -> 290.56876 | D18: 30212 | E18: 因公出国（境）费用 | F18: 0 | G18: 31009 | H18: 土地补偿
A19: 30114 | B19: 医疗费 | C19: 0 | D19: 30213 | E19: 维修（护）费 | F19: =69074.58/10000 -> 6.907458 | G19: 31010 | H19: 安置补助
A20: 30199 | B20: 其他工资福利支出 | C20: 0 | D20: 30214 | E20: 租赁费 | F20: =424000/10000 -> 42.4 | G20: 31011 | H20: 地上附着物和青苗补偿
A21: 303 | B21: 对个人和家庭的补助 | C21: =SUM(C22:C33) -> 88.847035 | D21: 30215 | E21: 会议费 | F21: =17100/10000 -> 1.71 | G21: 31012 | H21: 拆迁补偿
A22: 30301 | B22: 离休费 | C22: 0 | D22: 30216 | E22: 培训费 | F22: =91637.5/10000 -> 9.16375 | G22: 31013 | H22: 公务用车购置
A23: 30302 | B23: 退休费 | C23: =784650.35/10000 -> 78.465035 | D23: 30217 | E23: 公务接待费 | F23: =17035/10000 -> 1.7035 | G23: 31019 | H23: 其他交通工具购置
A24: 30303 | B24: 退职（役）费 | C24: 0 | D24: 30218 | E24: 专用材料费 | F24: 0 | G24: 31021 | H24: 文物和陈列品购置
A25: 30304 | B25: 抚恤金 | C25: =67020/10000 -> 6.702 | D25: 30224 | E25: 被装购置费 | F25: 0 | G25: 31022 | H25: 无形资产购置
A26: 30305 | B26: 生活补助 | C26: 0 | D26: 30225 | E26: 专用燃料费 | F26: 0 | G26: 31099 | H26: 其他资本性支出
A27: 30306 | B27: 救济费 | C27: 0 | D27: 30226 | E27: 劳务费 | F27: =229493/10000 -> 22.9493 | G27: 399 | H27: 其他支出
A28: 30307 | B28: 医疗费补助 | C28: 0 | D28: 30227 | E28: 委托业务费 | F28: =2268125.6/10000 -> 226.81256 | G28: 39907 | H28: 国家赔偿费用支出
A29: 30308 | B29: 助学金 | C29: 0 | D29: 30228 | E29: 工会经费 | F29: =1200000/10000 -> 120 | G29: 39908 | H29: 对民间非营利组织和群众性自治组织补贴
A30: 30309 | B30: 奖励金 | C30: 0 | D30: 30229 | E30: 福利费 | F30: 0 | G30: 39909 | H30: 经常性赠与
A31: 30310 | B31: 个人农业生产补贴 | C31: 0 | D31: 30231 | E31: 公务用车运行维护费 | F31: 0 | G31: 39910 | H31: 资本性赠与
A32: 30311 | B32: 代缴社会保险费 | C32: 0 | D32: 30239 | E32: 其他交通费用 | F32: =195349/10000 -> 19.5349 | G32: 39999 | H32: 其他支出
A33: 30399 | B33: 其他对个人和家庭的补助 | C33: =36800/10000 -> 3.68 | D33: 30240 | E33: 税金及附加费用 | F33: =11447.9/10000 -> 1.14479
D34: 30299 | E34: 其他商品和服务支出 | F34: =2226104.91/10000 -> 222.61049
A35: 人员经费合计 | C35: =C7+C21 -> 4682.9853 | D35: 公用经费合计 | I35: =F7+I10 -> 808.89387
A36: 注：本表反映部门本年度一般公共预算财政拨款基本支出明细情况。
E38: — 6 —

Sheet 政府性基金预算财政拨款收入支出决算表
A1: 政府性基金预算财政拨款收入支出决算表 | F1: 政府性基金预算财政拨款收入支出决算表
J2: 公开07表
A3: =一般公共预算财政拨款基本支出决算表!A3 -> 部门：岳阳县自然资源局 | J3: 金额单位：万元
A4: 项 目 | D4: 科目名称 | E4: 年初结转和结余 | F4: 本年收入 | G4: 本年支出 | J4: 年末结转和结余
A5: 功能分类科目编码 | D5: 科目名称 | E5: 合计 | F5: 合计 | G5: 小计 | H5: 基本支出 | I5: 项目支出 | J5: 合计
A6: 栏 次 | B6: 款 | C6: 项 | D6: 栏次 | E6: 1 | F6: 2 | G6: 3 | H6: 4 | I6: 5 | J6: 6
A7: 合 计 | D7: 合计 | E7: 0 | F7: =F8+F12 -> 422.99142 | G7: =H7+I7 -> 422.99142 | H7: =H8+H12 -> 320.4609 | I7: =I8+I12 -> 102.53052 | J7: 0
A8: 212 | D8: 城乡社区支出 | E8: 0 | F8: =F9 -> 222.70816 | G8: =H8+I8 -> 222.70816 | H8: =H9 -> 214.6609 | I8: =I9 -> 8.04726 | J8: 0
A9: 21208 | D9: 国有土地使用权出让收入安排的支出 | E9: 0 | F9: =SUM(F10:F11) -> 222.70816 | G9: =H9+I9 -> 222.70816 | H9: =SUM(H10:H11) -> 214.6609 | I9: =SUM(I10:I11) -> 8.04726 | J9: 0
A10: 2120801 | D10: 征地和拆迁补偿支出 | E10: 0 | F10: =25109/10000 -> 2.5109 | G10: =H10+I10 -> 2.5109 | H10: =25109/10000 -> 2.5109 | I10: =0/10000 -> 0 | J10: 0
A11: 2120899 | D11: 其他国有土地使用权出让收入安排的支出 | E11: 0 | F11: =2201972.6/10000 -> 220.19726 | G11: =H11+I11 -> 220.19726 | H11: =2121500/10000 -> 212.15 | I11: =80472.6/10000 -> 8.04726 | J11: 0
A12: 229 | D12: 其他支出 | E12: 0 | F12: =F13 -> 200.28326 | G12: =H12+I12 -> 200.28326 | H12: =H13 -> 105.8 | I12: =I13 -> 94.483259 | J12: 0
A13: 22904 | D13: 其他政府性基金及对应专项债务收入安排的支出 | E13: 0 | F13: =F14 -> 200.28326 | G13: =H13+I13 -> 200.28326 | H13: =H14 -> 105.8 | I13: =I14 -> 94.483259 | J13: 0
A14: 2290401 | D14: 其他政府性基金安排的支出 | E14: 0 | F14: =2002832.59/10000 -> 200.28326 | G14: =H14+I14 -> 200.28326 | H14: =1058000/10000 -> 105.8 | I14: =944832.59/10000 -> 94.483259 | J14: 0
A15: 注：本表反映部门本年度政府性基金预算财政拨款收入、支出及结转和结余情况。

Sheet 国有资本经营预算财政拨款支出决算表
A1: 国有资本经营预算财政拨款支出决算表 | E1: 国有资本经营预算财政拨款支出决算表
G2: 公开08表
A3: =政府性基金预算财政拨款收入支出决算表!A3 -> 部门：岳阳县自然资源局 | G3: 金额单位：万元
A4: 项目 | D4: 科目名称 | E4: 本年支出
A5: 功能分类科目编码 | D5: 科目名称 | E5: 合计 | F5: 基本支出 | G5: 项目支出
D7: 科目名称
A8: 栏次 | B8: 款 | C8: 项 | D8: 栏次 | E8: 3
A9: 合计 | D9: 合计 | E9: =F9+G9 -> 0 | F9: 0 | G9: =G10 -> 0
A10: 223 | D10: 国有资本经营预算支出 | E10: =F10+G10 -> 0 | G10: =G11 -> 0
A11: 22399 | D11: 其他国有资本经营预算支出 | E11: =F11+G11 -> 0 | G11: =G12 -> 0
A12: 2239999 | D12: 其他国有资本经营预算支出 | E12: =F12+G12 -> 0 | G12: 0
A16: 注：本表反映部门本年度国有资本经营预算财政拨款收入、支出及结转和结余情况。
E20: — 8.%d —

Sheet 财政拨款“三公"经费支出决算表
A1: 财政拨款“三公"经费支出决算表 | G1: 财政拨款“三公"经费支出决算表
L2: 公开09表
A3: =国有资本经营预算财政拨款支出决算表!A3 -> 部门：岳阳县自然资源局 | L3: 金额单位：万元
A4: 预算数 | D4: 公用经费 | G4: 决算数
A5: 合计 | B5: 因公出国（境）费 | C5: 公务用车购置及运行费 | D5: 经济分类科目编码 | E5: 科目名称 | F5: 公务接待费 | G5: 合计 | H5: 因公出国（境）费 | I5: 公务用车购置及运行费 | L5: 公务接待费
A6: 301 | B6: 工资福利支出 | C6: 小计 | D6: 公务用车购置费 | E6: 公务用车运行费 | I6: 小计 | J6: 公务用车购置费 | K6: 公务用车运行费
A7: 1 | B7: 2 | C7: 3 | D7: 4 | E7: 5 | F7: 6 | G7: 7 | H7: 8 | I7: 9 | J7: 10 | K7: 11 | L7: 12
A8: =B8+C8+F8 -> 14.55 | B8: 0 | C8: =D8+E8 -> 0 | D8: 0 | E8: 0 | F8: =145500/10000 -> 14.55 | G8: =H8+I8+L8 -> 1.7035 | H8: 0 | I8: =J8+K8 -> 0 | J8: 0 | K8: 0 | L8: =17035/10000 -> 1.7035
A9: 注：本表反映部门本年度“三公”经费支出预决算情况。其中，预算数为“三公”经费全年预算数，反映按规定程序调整后的预算数；决算数是包括当年财政拨款和以前年度结转资金安排的实际支出。
G12: — 9 —
